BEGIN:VCALENDAR
VERSION:2.0
PRODID:-//Library Market//iCal Export//EN
BEGIN:VEVENT
SUMMARY:Painting Afternoon (Grades 7-12)
UID:64776
DTSTAMP:20260423T172700Z
DTSTART:20260512T210000Z
DTEND:20260512T220000Z
LOCATION:Glenside Library, 25 E Fullerton Ave., Glendale Heights, IL 60139
 , United States
ROOM: Story and Craft Room
DESCRIPTION:Whether you’re bold like Frida Kahlo or mellow like Bob Ross
 , come paint a canvas worth showing off.
URL:https://glenside.librarycalendar.com/event/painting-afternoon-grades-7
 -12-64776
END:VEVENT
END:VCALENDAR
