BEGIN:VCALENDAR
VERSION:2.0
PRODID:-//Library Market//iCal Export//EN
BEGIN:VEVENT
SUMMARY:ELL Conversation Group
UID:69124
DTSTAMP:20260424T023300Z
DTSTART:20260630T000000Z
DTEND:20260630T010000Z
LOCATION:Glenside Library, 25 E Fullerton Ave., Glendale Heights, IL 60139
 , United States
ROOM: Conference Room
DESCRIPTION:Practice English skills at these free, drop-in ELL group. 
URL:https://glenside.librarycalendar.com/index.php/event/ell-conversation-
 group-69124
END:VEVENT
END:VCALENDAR
